BEGIN:VCALENDAR
VERSION:2.0
PRODID:-//YanaYoga.be - ECPv6.13.2.1//NONSGML v1.0//EN
CALSCALE:GREGORIAN
METHOD:PUBLISH
X-WR-CALNAME:YanaYoga.be
X-ORIGINAL-URL:https://yanayoga.be
X-WR-CALDESC:Évènements pour YanaYoga.be
REFRESH-INTERVAL;VALUE=DURATION:PT1H
X-Robots-Tag:noindex
X-PUBLISHED-TTL:PT1H
BEGIN:VTIMEZONE
TZID:Europe/Paris
BEGIN:DAYLIGHT
TZOFFSETFROM:+0100
TZOFFSETTO:+0200
TZNAME:CEST
DTSTART:20250330T010000
END:DAYLIGHT
BEGIN:STANDARD
TZOFFSETFROM:+0200
TZOFFSETTO:+0100
TZNAME:CET
DTSTART:20251026T010000
END:STANDARD
END:VTIMEZONE
BEGIN:VEVENT
DTSTART;TZID=Europe/Paris:20250603T190000
DTEND;TZID=Europe/Paris:20250603T201500
DTSTAMP:20260425T195931
CREATED:20241212T142804Z
LAST-MODIFIED:20241212T142804Z
UID:19103-1748977200-1748981700@yanayoga.be
SUMMARY:Cours collectifs de yoga
DESCRIPTION:Description \nNos cours collectifs sont ouverts à tous\, quel que soit votre niveau de pratique. Chaque posture est adaptée à vos capacités\, avec des options pour les débutants et des variations plus avancées pour les pratiquants expérimentés. Le yoga est une pratique inclusive\, et notre priorité est que chacun se sente à l’aise et soutenu.\n \n📅 Quand ?\nDurée d’un cours : 75 minutes \n\nMardi : 19h00 – 20h15\nJeudi : 19h00 – 20h15\n\n \n📍 Où ?\nCentre Pérou – Av. Du Pérou 23\, Bruxelles 1000\, à proximité de l’avenue Franklin Roosevelt (Hippodrome de Boitsfort).\n✨ Pour tous les niveaux : chacun avance à son rythme. \n \n\nComment s’inscrire :\nVous pouvez réserver votre place via notre formulaire d’inscription en ligne ou nous contacter directement par mail : yana@tomaso.be\nTarifs :\n\nCours à l’unité : 20€\nAbonnement trimestriel : 210 €\n\n\nMatériel requis :\n\nTapis de yoga (des tapis sont également disponibles sur place)\nVêtements confortables et légers\nCouvre-yeux et couverture pour la relaxation finale (facultatif)\n\n\n\n \nInformations et contacts\nYana Tomasovicova \nEmail : yana@tomaso.be \nTéléphone : +32 472 488 978 \n \n🌐 Site web : www.yanayoga.be
URL:https://yanayoga.be/agenda-global/cours-collectifs-de-yoga-36/
LOCATION:Zoom à confirmer\, Bruxelles\, Belgium
CATEGORIES:cours-collectifs-de-yoga
ATTACH;FMTTYPE=image/jpeg:https://yanayoga.be/wp-content/uploads/2024/10/0163_YANA_YOGA-20240203-504449-1-scaled.jpg
ORGANIZER;CN="YanaYoga":MAILTO:yana@tomaso.be
END:VEVENT
BEGIN:VEVENT
DTSTART;TZID=Europe/Paris:20250605T190000
DTEND;TZID=Europe/Paris:20250605T201500
DTSTAMP:20260425T195931
CREATED:20241212T142846Z
LAST-MODIFIED:20241212T142846Z
UID:19105-1749150000-1749154500@yanayoga.be
SUMMARY:Cours collectifs de yoga
DESCRIPTION:Description \nNos cours collectifs sont ouverts à tous\, quel que soit votre niveau de pratique. Chaque posture est adaptée à vos capacités\, avec des options pour les débutants et des variations plus avancées pour les pratiquants expérimentés. Le yoga est une pratique inclusive\, et notre priorité est que chacun se sente à l’aise et soutenu.\n \n📅 Quand ?\nDurée d’un cours : 75 minutes \n\nMardi : 19h00 – 20h15\nJeudi : 19h00 – 20h15\n\n \n📍 Où ?\nCentre Pérou – Av. Du Pérou 23\, Bruxelles 1000\, à proximité de l’avenue Franklin Roosevelt (Hippodrome de Boitsfort).\n✨ Pour tous les niveaux : chacun avance à son rythme. \n \n\nComment s’inscrire :\nVous pouvez réserver votre place via notre formulaire d’inscription en ligne ou nous contacter directement par mail : yana@tomaso.be\nTarifs :\n\nCours à l’unité : 20€\nAbonnement trimestriel : 210 €\n\n\nMatériel requis :\n\nTapis de yoga (des tapis sont également disponibles sur place)\nVêtements confortables et légers\nCouvre-yeux et couverture pour la relaxation finale (facultatif)\n\n\n\n \nInformations et contacts\nYana Tomasovicova \nEmail : yana@tomaso.be \nTéléphone : +32 472 488 978 \n \n🌐 Site web : www.yanayoga.be
URL:https://yanayoga.be/agenda-global/cours-collectifs-de-yoga-37/
LOCATION:Zoom à confirmer\, Bruxelles\, Belgium
CATEGORIES:cours-collectifs-de-yoga
ATTACH;FMTTYPE=image/jpeg:https://yanayoga.be/wp-content/uploads/2024/10/0182_YANA_YOGA-20240203-504505-scaled.jpg
ORGANIZER;CN="YanaYoga":MAILTO:yana@tomaso.be
END:VEVENT
BEGIN:VEVENT
DTSTART;TZID=Europe/Paris:20250612T190000
DTEND;TZID=Europe/Paris:20250612T201500
DTSTAMP:20260425T195931
CREATED:20241212T143015Z
LAST-MODIFIED:20241212T143015Z
UID:19109-1749754800-1749759300@yanayoga.be
SUMMARY:Cours collectifs de yoga
DESCRIPTION:Description \nNos cours collectifs sont ouverts à tous\, quel que soit votre niveau de pratique. Chaque posture est adaptée à vos capacités\, avec des options pour les débutants et des variations plus avancées pour les pratiquants expérimentés. Le yoga est une pratique inclusive\, et notre priorité est que chacun se sente à l’aise et soutenu.\n \n📅 Quand ?\nDurée d’un cours : 75 minutes \n\nMardi : 19h00 – 20h15\nJeudi : 19h00 – 20h15\n\n \n📍 Où ?\nCentre Pérou – Av. Du Pérou 23\, Bruxelles 1000\, à proximité de l’avenue Franklin Roosevelt (Hippodrome de Boitsfort).\n✨ Pour tous les niveaux : chacun avance à son rythme. \n \n\nComment s’inscrire :\nVous pouvez réserver votre place via notre formulaire d’inscription en ligne ou nous contacter directement par mail : yana@tomaso.be\nTarifs :\n\nCours à l’unité : 20€\nAbonnement trimestriel : 210 €\n\n\nMatériel requis :\n\nTapis de yoga (des tapis sont également disponibles sur place)\nVêtements confortables et légers\nCouvre-yeux et couverture pour la relaxation finale (facultatif)\n\n\n\n \nInformations et contacts\nYana Tomasovicova \nEmail : yana@tomaso.be \nTéléphone : +32 472 488 978 \n \n🌐 Site web : www.yanayoga.be
URL:https://yanayoga.be/agenda-global/cours-collectifs-de-yoga-39/
LOCATION:Zoom à confirmer\, Bruxelles\, Belgium
CATEGORIES:cours-collectifs-de-yoga
ATTACH;FMTTYPE=image/jpeg:https://yanayoga.be/wp-content/uploads/2024/10/0163_YANA_YOGA-20240203-504449-1-scaled.jpg
ORGANIZER;CN="YanaYoga":MAILTO:yana@tomaso.be
END:VEVENT
BEGIN:VEVENT
DTSTART;TZID=Europe/Paris:20250617T190000
DTEND;TZID=Europe/Paris:20250617T201500
DTSTAMP:20260425T195931
CREATED:20241212T143103Z
LAST-MODIFIED:20241212T143103Z
UID:19111-1750186800-1750191300@yanayoga.be
SUMMARY:Cours collectifs de yoga
DESCRIPTION:Description \nNos cours collectifs sont ouverts à tous\, quel que soit votre niveau de pratique. Chaque posture est adaptée à vos capacités\, avec des options pour les débutants et des variations plus avancées pour les pratiquants expérimentés. Le yoga est une pratique inclusive\, et notre priorité est que chacun se sente à l’aise et soutenu.\n \n📅 Quand ?\nDurée d’un cours : 75 minutes \n\nMardi : 19h00 – 20h15\nJeudi : 19h00 – 20h15\n\n \n📍 Où ?\nCentre Pérou – Av. Du Pérou 23\, Bruxelles 1000\, à proximité de l’avenue Franklin Roosevelt (Hippodrome de Boitsfort).\n✨ Pour tous les niveaux : chacun avance à son rythme. \n \n\nComment s’inscrire :\nVous pouvez réserver votre place via notre formulaire d’inscription en ligne ou nous contacter directement par mail : yana@tomaso.be\nTarifs :\n\nCours à l’unité : 20€\nAbonnement trimestriel : 210 €\n\n\nMatériel requis :\n\nTapis de yoga (des tapis sont également disponibles sur place)\nVêtements confortables et légers\nCouvre-yeux et couverture pour la relaxation finale (facultatif)\n\n\n\n \nInformations et contacts\nYana Tomasovicova \nEmail : yana@tomaso.be \nTéléphone : +32 472 488 978 \n \n🌐 Site web : www.yanayoga.be
URL:https://yanayoga.be/agenda-global/cours-collectifs-de-yoga-40/
LOCATION:Zoom à confirmer\, Bruxelles\, Belgium
CATEGORIES:cours-collectifs-de-yoga
ATTACH;FMTTYPE=image/jpeg:https://yanayoga.be/wp-content/uploads/2024/10/0165_YANA_YOGA-20240203-504458-scaled-e1729501651484.jpg
ORGANIZER;CN="YanaYoga":MAILTO:yana@tomaso.be
END:VEVENT
BEGIN:VEVENT
DTSTART;TZID=Europe/Paris:20250619T190000
DTEND;TZID=Europe/Paris:20250619T201500
DTSTAMP:20260425T195931
CREATED:20241212T143151Z
LAST-MODIFIED:20241212T143151Z
UID:19113-1750359600-1750364100@yanayoga.be
SUMMARY:Cours collectifs de yoga
DESCRIPTION:Description \nNos cours collectifs sont ouverts à tous\, quel que soit votre niveau de pratique. Chaque posture est adaptée à vos capacités\, avec des options pour les débutants et des variations plus avancées pour les pratiquants expérimentés. Le yoga est une pratique inclusive\, et notre priorité est que chacun se sente à l’aise et soutenu.\n \n📅 Quand ?\nDurée d’un cours : 75 minutes \n\nMardi : 19h00 – 20h15\nJeudi : 19h00 – 20h15\n\n \n📍 Où ?\nCentre Pérou – Av. Du Pérou 23\, Bruxelles 1000\, à proximité de l’avenue Franklin Roosevelt (Hippodrome de Boitsfort).\n✨ Pour tous les niveaux : chacun avance à son rythme. \n \n\nComment s’inscrire :\nVous pouvez réserver votre place via notre formulaire d’inscription en ligne ou nous contacter directement par mail : yana@tomaso.be\nTarifs :\n\nCours à l’unité : 20€\nAbonnement trimestriel : 210 €\n\n\nMatériel requis :\n\nTapis de yoga (des tapis sont également disponibles sur place)\nVêtements confortables et légers\nCouvre-yeux et couverture pour la relaxation finale (facultatif)\n\n\n\n \nInformations et contacts\nYana Tomasovicova \nEmail : yana@tomaso.be \nTéléphone : +32 472 488 978 \n \n🌐 Site web : www.yanayoga.be
URL:https://yanayoga.be/agenda-global/cours-collectifs-de-yoga-41/
LOCATION:Zoom à confirmer\, Bruxelles\, Belgium
CATEGORIES:cours-collectifs-de-yoga
ATTACH;FMTTYPE=image/jpeg:https://yanayoga.be/wp-content/uploads/2024/10/0165_YANA_YOGA-20240203-504458-scaled-e1729501651484.jpg
ORGANIZER;CN="YanaYoga":MAILTO:yana@tomaso.be
END:VEVENT
BEGIN:VEVENT
DTSTART;TZID=Europe/Paris:20250624T190000
DTEND;TZID=Europe/Paris:20250624T201500
DTSTAMP:20260425T195931
CREATED:20241212T143244Z
LAST-MODIFIED:20241212T143244Z
UID:19115-1750791600-1750796100@yanayoga.be
SUMMARY:Cours collectifs de yoga
DESCRIPTION:Description \nNos cours collectifs sont ouverts à tous\, quel que soit votre niveau de pratique. Chaque posture est adaptée à vos capacités\, avec des options pour les débutants et des variations plus avancées pour les pratiquants expérimentés. Le yoga est une pratique inclusive\, et notre priorité est que chacun se sente à l’aise et soutenu.\n \n📅 Quand ?\nDurée d’un cours : 75 minutes \n\nMardi : 19h00 – 20h15\nJeudi : 19h00 – 20h15\n\n \n📍 Où ?\nCentre Pérou – Av. Du Pérou 23\, Bruxelles 1000\, à proximité de l’avenue Franklin Roosevelt (Hippodrome de Boitsfort).\n✨ Pour tous les niveaux : chacun avance à son rythme. \n \n\nComment s’inscrire :\nVous pouvez réserver votre place via notre formulaire d’inscription en ligne ou nous contacter directement par mail : yana@tomaso.be\nTarifs :\n\nCours à l’unité : 20€\nAbonnement trimestriel : 210 €\n\n\nMatériel requis :\n\nTapis de yoga (des tapis sont également disponibles sur place)\nVêtements confortables et légers\nCouvre-yeux et couverture pour la relaxation finale (facultatif)\n\n\n\n \nInformations et contacts\nYana Tomasovicova \nEmail : yana@tomaso.be \nTéléphone : +32 472 488 978 \n \n🌐 Site web : www.yanayoga.be
URL:https://yanayoga.be/agenda-global/cours-collectifs-de-yoga-42/
LOCATION:Zoom à confirmer\, Bruxelles\, Belgium
CATEGORIES:cours-collectifs-de-yoga
ATTACH;FMTTYPE=image/jpeg:https://yanayoga.be/wp-content/uploads/2024/10/0182_YANA_YOGA-20240203-504505-scaled.jpg
ORGANIZER;CN="YanaYoga":MAILTO:yana@tomaso.be
END:VEVENT
BEGIN:VEVENT
DTSTART;TZID=Europe/Paris:20250625T190000
DTEND;TZID=Europe/Paris:20250625T210000
DTSTAMP:20260425T195931
CREATED:20241212T145250Z
LAST-MODIFIED:20250331T065700Z
UID:19121-1750878000-1750885200@yanayoga.be
SUMMARY:Satsang d'Atmananda le 25 Juin 2025 au Centre Pérou (Bruxelles)
DESCRIPTION:Satsang d’Atmananda le 25 Juin 2025 à 19 H au Centre Pérou (Bruxelles)\nNous avons l’immense joie de vous inviter à un Satsang exceptionnel d’une soirée avec Atmananda\, une occasion unique de plonger dans une exploration spirituelle profonde et de partager un moment de sagesse et de sérénité \nL’enseignant\nAprès des études de philosophie\, théologie et religion comparée\, et une brève carrière universitaire\, Atmananda reçoit l’ordination monastique dans la tradition de l’Orient chrétien. Il se retire ensuite pendant plusieurs années dans un ermitage des monts de Judée. \nEn 1997\, il retourne en Inde du Nord pour vivre dans un ermitage des contreforts himalayens\, près de Rishikesh. \nAu terme de quatre nouvelles années de solitude\, il embrasse la sagesse pérenne du Sanatana Dharma et reçoit l’initiation au sannyasa de son maître\, Sri Chandra Swami Udasin\, rencontré à Haridwar en 1990. \nS’inspirant de la vision qu’eut Swami Abhishiktananda (Henri Le Saux) de l’unicité de la Vérité ultime au-delà des grandes traditions religieuses\, il fonde en 2003 l’Ajatananda Ashram qui tient son nom de celui qui fut le disciple réalisé d’Henri Le Saux\, Swami Ajatananda Saraswati (Marc Chaduc)\, « disparu » dans le haut Himalaya en 1977. \nL’enseignement\nSon enseignement s’inscrit dans la grande tradition de l’Advaita Védanta\, dans la ligne de Sri Adi Shankaracharya. Outre les enseignements transmis directement par son Maître\, la vision trans-religieuse de Swami Abhishiktananda et celle de Swami Ajatananda Saraswati\, Swami Atmananda a aussi été profondément inspiré par Sri Ramana Maharshi\, Sri Nisargadatta Maharaj\, Sri Atmananda Krishna Menon et Sri H.W.L. Poonja (Papaji). \nRépondant à un appel intérieur\, il enseigne depuis 2012 la voie directe de la Non-Dualité (Advaita) et intervient dans le cadre d’entretiens (satsangs) et de retraites en Inde et en Europe. \nInformations complémentaires \nCe programme est ouvert à tous\, mais l’inscription est obligatoire pour y participer.  Assurez-vous de réserver votre place dès que possible\, car les places sont limitées. \nNe manquez pas cette chance de vivre un moment inspirant en présence d’Atmananda. \n  \nInscriptions et contact\n  \n\nArrivez 15 minutes avant le début de la séance.\nMerci d’apporter de quoi noter si vous souhaitez conserver des enseignements partagés durant le Satsang.\nDonation consciente 15 euros\n\nDate :  Le 25 JUIN 2025  de 19 h – 21 h. \nLieu : Centre Pérou\, 23\, av. du Pérou\, 1000 Bruxelles\nInscriptions : yana@tomaso.be \n 
URL:https://yanayoga.be/agenda-global/satsang-datmananda-le-10-juin-2025-au-centre-perou-bruxelles/
LOCATION:Zoom à confirmer\, Bruxelles\, Belgium
CATEGORIES:Meditation,Non-dualité,Rencontres,Satsangs
ATTACH;FMTTYPE=image/png:https://yanayoga.be/wp-content/uploads/2024/11/Capture-decran-2024-11-28-a-14.02.32.png
ORGANIZER;CN="YanaYoga":MAILTO:yana@tomaso.be
END:VEVENT
BEGIN:VEVENT
DTSTART;TZID=Europe/Paris:20250626T190000
DTEND;TZID=Europe/Paris:20250626T201500
DTSTAMP:20260425T195931
CREATED:20241212T142931Z
LAST-MODIFIED:20241212T143320Z
UID:19107-1750964400-1750968900@yanayoga.be
SUMMARY:Cours collectifs de yoga
DESCRIPTION:Description \nNos cours collectifs sont ouverts à tous\, quel que soit votre niveau de pratique. Chaque posture est adaptée à vos capacités\, avec des options pour les débutants et des variations plus avancées pour les pratiquants expérimentés. Le yoga est une pratique inclusive\, et notre priorité est que chacun se sente à l’aise et soutenu.\n \n📅 Quand ?\nDurée d’un cours : 75 minutes \n\nMardi : 19h00 – 20h15\nJeudi : 19h00 – 20h15\n\n \n📍 Où ?\nCentre Pérou – Av. Du Pérou 23\, Bruxelles 1000\, à proximité de l’avenue Franklin Roosevelt (Hippodrome de Boitsfort).\n✨ Pour tous les niveaux : chacun avance à son rythme. \n \n\nComment s’inscrire :\nVous pouvez réserver votre place via notre formulaire d’inscription en ligne ou nous contacter directement par mail : yana@tomaso.be\nTarifs :\n\nCours à l’unité : 20€\nAbonnement trimestriel : 210 €\n\n\nMatériel requis :\n\nTapis de yoga (des tapis sont également disponibles sur place)\nVêtements confortables et légers\nCouvre-yeux et couverture pour la relaxation finale (facultatif)\n\n\n\n \nInformations et contacts\nYana Tomasovicova \nEmail : yana@tomaso.be \nTéléphone : +32 472 488 978 \n \n🌐 Site web : www.yanayoga.be
URL:https://yanayoga.be/agenda-global/cours-collectifs-de-yoga-38/
LOCATION:Zoom à confirmer\, Bruxelles\, Belgium
CATEGORIES:cours-collectifs-de-yoga
ATTACH;FMTTYPE=image/jpeg:https://yanayoga.be/wp-content/uploads/2024/10/0182_YANA_YOGA-20240203-504505-scaled.jpg
ORGANIZER;CN="YanaYoga":MAILTO:yana@tomaso.be
END:VEVENT
BEGIN:VEVENT
DTSTART;VALUE=DATE:20250628
DTEND;VALUE=DATE:20250630
DTSTAMP:20260425T195931
CREATED:20241212T145759Z
LAST-MODIFIED:20250202T154907Z
UID:19123-1751068800-1751241599@yanayoga.be
SUMMARY:Rencontre exceptionnelle avec Sri Ritodgata au Centre Pérou à Bruxelles
DESCRIPTION:Rencontre exceptionnelle avec Sri Ritodgata le 28 et 29 juin 2025 de 9 h à 17 H30 au Centre Pérou à Bruxelles\nPlongez dans un voyage spirituel guidé par Sri Ritodgata Mahasthita\, maître de yoga et de méditation\, riche de plus de 30 ans d’expérience auprès d’un maître en Inde du Sud. Originaire du Kerala\, il est aussi un érudit des textes sacrés indiens et enseigne en Inde et en Europe depuis de nombreuses années. \nPourquoi participer ?\n\nAccessible à tous : Que vous soyez débutant ou pratiquant régulier\, ce séminaire est conçu pour s’adapter à votre rythme\, en toute simplicité.\nUn programme enrichissant : Enseignements spirituels\, méditations guidées et échanges individuels (sur demande).\nUn cadre bienveillant : Une immersion profonde dans une ambiance paisible et authentique.\n\nInformations pratiques\n\nLangue : Le séminaire sera en anglais avec une traduction assurée par un interprète.\n\nOffrez-vous ce moment précieux de transformation personnelle et de connexion spirituelle. Rejoignez-nous et laissez-vous inspirer par la sagesse de Sri Ritodgata Mahasthita. \nInformations complémentaires \n\nArrivez 15 minutes avant le début de la journée.\nMerci d’apporter de quoi noter si vous souhaitez conserver des enseignements partagés durant le Satsang.\n\n Inscriptions et contact \nLieu : Centre Pérou\, 23\, av. du Pérou\, 1000 Bruxelles – 28 et 29 juin de 9H à 17H30.\nInscriptions : yana@tomaso.be \nInscrivez-vous dès maintenant pour réserver votre place ! \nSi vous rencontrez des difficultés financières\, n’hésitez pas à ma contacter.
URL:https://yanayoga.be/agenda-global/rencontre-exceptionnelle-avec-sri-ritodgata-au-centre-perou-a-bruxelles/
LOCATION:Zoom à confirmer\, Bruxelles\, Belgium
CATEGORIES:Meditation,Non-dualité,Rencontres,Satsangs
ATTACH;FMTTYPE=image/png:https://yanayoga.be/wp-content/uploads/2024/11/Capture-decran-2024-11-27-a-15.48.41-e1732719116695.png
ORGANIZER;CN="YanaYoga":MAILTO:yana@tomaso.be
END:VEVENT
END:VCALENDAR