BEGIN:VCALENDAR
VERSION:2.0
PRODID:-//YanaYoga.be - ECPv6.13.2.1//NONSGML v1.0//EN
CALSCALE:GREGORIAN
METHOD:PUBLISH
X-ORIGINAL-URL:https://yanayoga.be
X-WR-CALDESC:Évènements pour YanaYoga.be
REFRESH-INTERVAL;VALUE=DURATION:PT1H
X-Robots-Tag:noindex
X-PUBLISHED-TTL:PT1H
BEGIN:VTIMEZONE
TZID:Europe/Paris
BEGIN:DAYLIGHT
TZOFFSETFROM:+0100
TZOFFSETTO:+0200
TZNAME:CEST
DTSTART:20250330T010000
END:DAYLIGHT
BEGIN:STANDARD
TZOFFSETFROM:+0200
TZOFFSETTO:+0100
TZNAME:CET
DTSTART:20251026T010000
END:STANDARD
END:VTIMEZONE
BEGIN:VEVENT
DTSTART;TZID=Europe/Paris:20250204T190000
DTEND;TZID=Europe/Paris:20250204T201500
DTSTAMP:20260425T215707
CREATED:20241211T154439Z
LAST-MODIFIED:20250130T135938Z
UID:19020-1738695600-1738700100@yanayoga.be
SUMMARY:Cours collectifs de yoga
DESCRIPTION:Description \nNos cours collectifs sont ouverts à tous\, quel que soit votre niveau de pratique. Chaque posture est adaptée à vos capacités\, avec des options pour les débutants et des variations plus avancées pour les pratiquants expérimentés. Le yoga est une pratique inclusive\, et notre priorité est que chacun se sente à l’aise et soutenu.\n \n📅 Quand ?\nDurée d’un cours : 75 minutes \n\nMardi : 19h00 – 20h15\nJeudi : 19h00 – 20h15\n\n \n📍 Où ?\nCentre Pérou – Av. Du Pérou 23\, Bruxelles 1000\, à proximité de l’avenue Franklin Roosevelt (Hippodrome de Boitsfort).\n✨ Pour tous les niveaux : chacun avance à son rythme. \n \n\nComment s’inscrire :\nVous pouvez réserver votre place en nous contactant directement par mail : yana@tomaso.be\nTarifs :\n\nCours à l’unité : 16€\nPossibilité d’un abonnement trimestriel\n\n\nMatériel requis :\n\nTapis de yoga (des tapis sont également disponibles sur place)\nVêtements confortables et légers\nCouvre-yeux et couverture pour la relaxation finale (facultatif)\n\n\n\n \nInformations et contacts\nYana Tomasovicova \nEmail : yana@tomaso.be \nTéléphone : +32 472 488 978 \n \n🌐 Site web : www.yanayoga.be
URL:https://yanayoga.be/agenda-global/cours-collectifs-de-yoga-13/
LOCATION:Zoom à confirmer\, Bruxelles\, Belgium
CATEGORIES:cours-collectifs-de-yoga,Meditation,Pranayama,Yoga
ATTACH;FMTTYPE=image/jpeg:https://yanayoga.be/wp-content/uploads/2024/10/0064_YANA_YOGA-20240203-405739-scaled.jpg
ORGANIZER;CN="YanaYoga":MAILTO:yana@tomaso.be
END:VEVENT
BEGIN:VEVENT
DTSTART;TZID=Europe/Paris:20250206T190000
DTEND;TZID=Europe/Paris:20250206T201500
DTSTAMP:20260425T215707
CREATED:20241211T154554Z
LAST-MODIFIED:20250130T140336Z
UID:19022-1738868400-1738872900@yanayoga.be
SUMMARY:Cours collectifs de yoga
DESCRIPTION:Description \nNos cours collectifs sont ouverts à tous\, quel que soit votre niveau de pratique. Chaque posture est adaptée à vos capacités\, avec des options pour les débutants et des variations plus avancées pour les pratiquants expérimentés. Le yoga est une pratique inclusive\, et notre priorité est que chacun se sente à l’aise et soutenu.\n \n📅 Quand ?\nDurée d’un cours : 75 minutes \n\nMardi : 19h00 – 20h15\nJeudi : 19h00 – 20h15\n\n \n📍 Où ?\nCentre Pérou – Av. Du Pérou 23\, Bruxelles 1000\, à proximité de l’avenue Franklin Roosevelt (Hippodrome de Boitsfort).\n✨ Pour tous les niveaux : chacun avance à son rythme. \n \n\nComment s’inscrire :\nVous pouvez réserver votre place en nous contactant directement par mail : yana@tomaso.be\nTarifs :\n\nCours à l’unité : 16€\nPossibilité d’un abonnement trimestriel\n\n\nMatériel requis :\n\nTapis de yoga (des tapis sont également disponibles sur place)\nVêtements confortables et légers\nCouvre-yeux et couverture pour la relaxation finale (facultatif)\n\n\n\n \nInformations et contacts\nYana Tomasovicova \nEmail : yana@tomaso.be \nTéléphone : +32 472 488 978 \n \n🌐 Site web : www.yanayoga.be
URL:https://yanayoga.be/agenda-global/cours-collectifs-de-yoga-14/
LOCATION:Zoom à confirmer\, Bruxelles\, Belgium
CATEGORIES:cours-collectifs-de-yoga,Meditation,Pranayama
ATTACH;FMTTYPE=image/jpeg:https://yanayoga.be/wp-content/uploads/2024/10/0195_YANA_YOGA-20240203-504521.jpg
ORGANIZER;CN="YanaYoga":MAILTO:yana@tomaso.be
END:VEVENT
BEGIN:VEVENT
DTSTART;TZID=Europe/Paris:20250211T190000
DTEND;TZID=Europe/Paris:20250211T201500
DTSTAMP:20260425T215707
CREATED:20241212T125459Z
LAST-MODIFIED:20241212T125459Z
UID:19042-1739300400-1739304900@yanayoga.be
SUMMARY:Cours collectifs de yoga
DESCRIPTION:Description \nNos cours collectifs sont ouverts à tous\, quel que soit votre niveau de pratique. Chaque posture est adaptée à vos capacités\, avec des options pour les débutants et des variations plus avancées pour les pratiquants expérimentés. Le yoga est une pratique inclusive\, et notre priorité est que chacun se sente à l’aise et soutenu.\n \n📅 Quand ?\nDurée d’un cours : 75 minutes \n\nMardi : 19h00 – 20h15\nJeudi : 19h00 – 20h15\n\n \n📍 Où ?\nCentre Pérou – Av. Du Pérou 23\, Bruxelles 1000\, à proximité de l’avenue Franklin Roosevelt (Hippodrome de Boitsfort).\n✨ Pour tous les niveaux : chacun avance à son rythme. \n \n\nComment s’inscrire :\nVous pouvez réserver votre place via notre formulaire d’inscription en ligne ou nous contacter directement par mail : yana@tomaso.be\nTarifs :\n\nCours à l’unité : 20€\nAbonnement trimestriel : 210 €\n\n\nMatériel requis :\n\nTapis de yoga (des tapis sont également disponibles sur place)\nVêtements confortables et légers\nCouvre-yeux et couverture pour la relaxation finale (facultatif)\n\n\n\n \nInformations et contacts\nYana Tomasovicova \nEmail : yana@tomaso.be \nTéléphone : +32 472 488 978 \n \n🌐 Site web : www.yanayoga.be
URL:https://yanayoga.be/agenda-global/cours-collectifs-de-yoga-15/
LOCATION:Zoom à confirmer\, Bruxelles\, Belgium
CATEGORIES:cours-collectifs-de-yoga
ATTACH;FMTTYPE=image/jpeg:https://yanayoga.be/wp-content/uploads/2024/10/0195_YANA_YOGA-20240203-504521.jpg
ORGANIZER;CN="YanaYoga":MAILTO:yana@tomaso.be
END:VEVENT
BEGIN:VEVENT
DTSTART;TZID=Europe/Paris:20250213T190000
DTEND;TZID=Europe/Paris:20250213T201500
DTSTAMP:20260425T215707
CREATED:20241212T130318Z
LAST-MODIFIED:20241212T130318Z
UID:19043-1739473200-1739477700@yanayoga.be
SUMMARY:Cours collectifs de yoga
DESCRIPTION:Description \nNos cours collectifs sont ouverts à tous\, quel que soit votre niveau de pratique. Chaque posture est adaptée à vos capacités\, avec des options pour les débutants et des variations plus avancées pour les pratiquants expérimentés. Le yoga est une pratique inclusive\, et notre priorité est que chacun se sente à l’aise et soutenu.\n \n📅 Quand ?\nDurée d’un cours : 75 minutes \n\nMardi : 19h00 – 20h15\nJeudi : 19h00 – 20h15\n\n \n📍 Où ?\nCentre Pérou – Av. Du Pérou 23\, Bruxelles 1000\, à proximité de l’avenue Franklin Roosevelt (Hippodrome de Boitsfort).\n✨ Pour tous les niveaux : chacun avance à son rythme. \n \n\nComment s’inscrire :\nVous pouvez réserver votre place via notre formulaire d’inscription en ligne ou nous contacter directement par mail : yana@tomaso.be\nTarifs :\n\nCours à l’unité : 20€\nAbonnement trimestriel : 210 €\n\n\nMatériel requis :\n\nTapis de yoga (des tapis sont également disponibles sur place)\nVêtements confortables et légers\nCouvre-yeux et couverture pour la relaxation finale (facultatif)\n\n\n\n \nInformations et contacts\nYana Tomasovicova \nEmail : yana@tomaso.be \nTéléphone : +32 472 488 978 \n \n🌐 Site web : www.yanayoga.be
URL:https://yanayoga.be/agenda-global/cours-collectifs-de-yoga-16/
LOCATION:Zoom à confirmer\, Bruxelles\, Belgium
CATEGORIES:cours-collectifs-de-yoga
ATTACH;FMTTYPE=image/jpeg:https://yanayoga.be/wp-content/uploads/2024/10/0030_YANA_YOGA-20240203-504169-e1727959311529.jpg
ORGANIZER;CN="YanaYoga":MAILTO:yana@tomaso.be
END:VEVENT
BEGIN:VEVENT
DTSTART;TZID=Europe/Paris:20250218T190000
DTEND;TZID=Europe/Paris:20250218T201500
DTSTAMP:20260425T215707
CREATED:20241212T130423Z
LAST-MODIFIED:20241212T130423Z
UID:19050-1739905200-1739909700@yanayoga.be
SUMMARY:Cours collectifs de yoga
DESCRIPTION:Description \nNos cours collectifs sont ouverts à tous\, quel que soit votre niveau de pratique. Chaque posture est adaptée à vos capacités\, avec des options pour les débutants et des variations plus avancées pour les pratiquants expérimentés. Le yoga est une pratique inclusive\, et notre priorité est que chacun se sente à l’aise et soutenu.\n \n📅 Quand ?\nDurée d’un cours : 75 minutes \n\nMardi : 19h00 – 20h15\nJeudi : 19h00 – 20h15\n\n \n📍 Où ?\nCentre Pérou – Av. Du Pérou 23\, Bruxelles 1000\, à proximité de l’avenue Franklin Roosevelt (Hippodrome de Boitsfort).\n✨ Pour tous les niveaux : chacun avance à son rythme. \n \n\nComment s’inscrire :\nVous pouvez réserver votre place via notre formulaire d’inscription en ligne ou nous contacter directement par mail : yana@tomaso.be\nTarifs :\n\nCours à l’unité : 20€\nAbonnement trimestriel : 210 €\n\n\nMatériel requis :\n\nTapis de yoga (des tapis sont également disponibles sur place)\nVêtements confortables et légers\nCouvre-yeux et couverture pour la relaxation finale (facultatif)\n\n\n\n \nInformations et contacts\nYana Tomasovicova \nEmail : yana@tomaso.be \nTéléphone : +32 472 488 978 \n \n🌐 Site web : www.yanayoga.be
URL:https://yanayoga.be/agenda-global/cours-collectifs-de-yoga-17/
LOCATION:Zoom à confirmer\, Bruxelles\, Belgium
CATEGORIES:cours-collectifs-de-yoga
ATTACH;FMTTYPE=image/jpeg:https://yanayoga.be/wp-content/uploads/2024/10/0182_YANA_YOGA-20240203-504505-scaled.jpg
ORGANIZER;CN="YanaYoga":MAILTO:yana@tomaso.be
END:VEVENT
BEGIN:VEVENT
DTSTART;TZID=Europe/Paris:20250220T190000
DTEND;TZID=Europe/Paris:20250220T201500
DTSTAMP:20260425T215707
CREATED:20241212T130539Z
LAST-MODIFIED:20241212T130539Z
UID:19053-1740078000-1740082500@yanayoga.be
SUMMARY:Cours collectifs de yoga
DESCRIPTION:Description \nNos cours collectifs sont ouverts à tous\, quel que soit votre niveau de pratique. Chaque posture est adaptée à vos capacités\, avec des options pour les débutants et des variations plus avancées pour les pratiquants expérimentés. Le yoga est une pratique inclusive\, et notre priorité est que chacun se sente à l’aise et soutenu.\n \n📅 Quand ?\nDurée d’un cours : 75 minutes \n\nMardi : 19h00 – 20h15\nJeudi : 19h00 – 20h15\n\n \n📍 Où ?\nCentre Pérou – Av. Du Pérou 23\, Bruxelles 1000\, à proximité de l’avenue Franklin Roosevelt (Hippodrome de Boitsfort).\n✨ Pour tous les niveaux : chacun avance à son rythme. \n \n\nComment s’inscrire :\nVous pouvez réserver votre place via notre formulaire d’inscription en ligne ou nous contacter directement par mail : yana@tomaso.be\nTarifs :\n\nCours à l’unité : 20€\nAbonnement trimestriel : 210 €\n\n\nMatériel requis :\n\nTapis de yoga (des tapis sont également disponibles sur place)\nVêtements confortables et légers\nCouvre-yeux et couverture pour la relaxation finale (facultatif)\n\n\n\n \nInformations et contacts\nYana Tomasovicova \nEmail : yana@tomaso.be \nTéléphone : +32 472 488 978 \n \n🌐 Site web : www.yanayoga.be
URL:https://yanayoga.be/agenda-global/cours-collectifs-de-yoga-18/
LOCATION:Zoom à confirmer\, Bruxelles\, Belgium
CATEGORIES:cours-collectifs-de-yoga
ATTACH;FMTTYPE=image/jpeg:https://yanayoga.be/wp-content/uploads/2024/10/0163_YANA_YOGA-20240203-504449-1-scaled.jpg
ORGANIZER;CN="YanaYoga":MAILTO:yana@tomaso.be
END:VEVENT
END:VCALENDAR