BEGIN:VCALENDAR
VERSION:2.0
PRODID:-//YanaYoga.be - ECPv6.13.2.1//NONSGML v1.0//EN
CALSCALE:GREGORIAN
METHOD:PUBLISH
X-ORIGINAL-URL:https://yanayoga.be
X-WR-CALDESC:Évènements pour YanaYoga.be
REFRESH-INTERVAL;VALUE=DURATION:PT1H
X-Robots-Tag:noindex
X-PUBLISHED-TTL:PT1H
BEGIN:VTIMEZONE
TZID:Europe/Paris
BEGIN:DAYLIGHT
TZOFFSETFROM:+0100
TZOFFSETTO:+0200
TZNAME:CEST
DTSTART:20250330T010000
END:DAYLIGHT
BEGIN:STANDARD
TZOFFSETFROM:+0200
TZOFFSETTO:+0100
TZNAME:CET
DTSTART:20251026T010000
END:STANDARD
END:VTIMEZONE
BEGIN:VEVENT
DTSTART;TZID=Europe/Paris:20250612T190000
DTEND;TZID=Europe/Paris:20250612T201500
DTSTAMP:20260425T175842
CREATED:20241212T143015Z
LAST-MODIFIED:20241212T143015Z
UID:19109-1749754800-1749759300@yanayoga.be
SUMMARY:Cours collectifs de yoga
DESCRIPTION:Description \nNos cours collectifs sont ouverts à tous\, quel que soit votre niveau de pratique. Chaque posture est adaptée à vos capacités\, avec des options pour les débutants et des variations plus avancées pour les pratiquants expérimentés. Le yoga est une pratique inclusive\, et notre priorité est que chacun se sente à l’aise et soutenu.\n \n📅 Quand ?\nDurée d’un cours : 75 minutes \n\nMardi : 19h00 – 20h15\nJeudi : 19h00 – 20h15\n\n \n📍 Où ?\nCentre Pérou – Av. Du Pérou 23\, Bruxelles 1000\, à proximité de l’avenue Franklin Roosevelt (Hippodrome de Boitsfort).\n✨ Pour tous les niveaux : chacun avance à son rythme. \n \n\nComment s’inscrire :\nVous pouvez réserver votre place via notre formulaire d’inscription en ligne ou nous contacter directement par mail : yana@tomaso.be\nTarifs :\n\nCours à l’unité : 20€\nAbonnement trimestriel : 210 €\n\n\nMatériel requis :\n\nTapis de yoga (des tapis sont également disponibles sur place)\nVêtements confortables et légers\nCouvre-yeux et couverture pour la relaxation finale (facultatif)\n\n\n\n \nInformations et contacts\nYana Tomasovicova \nEmail : yana@tomaso.be \nTéléphone : +32 472 488 978 \n \n🌐 Site web : www.yanayoga.be
URL:https://yanayoga.be/agenda-global/cours-collectifs-de-yoga-39/
LOCATION:Zoom à confirmer\, Bruxelles\, Belgium
CATEGORIES:cours-collectifs-de-yoga
ATTACH;FMTTYPE=image/jpeg:https://yanayoga.be/wp-content/uploads/2024/10/0163_YANA_YOGA-20240203-504449-1-scaled.jpg
ORGANIZER;CN="YanaYoga":MAILTO:yana@tomaso.be
END:VEVENT
END:VCALENDAR