BEGIN:VCALENDAR
VERSION:2.0
PRODID:-//YanaYoga.be - ECPv6.13.2.1//NONSGML v1.0//EN
CALSCALE:GREGORIAN
METHOD:PUBLISH
X-ORIGINAL-URL:https://yanayoga.be
X-WR-CALDESC:Évènements pour YanaYoga.be
REFRESH-INTERVAL;VALUE=DURATION:PT1H
X-Robots-Tag:noindex
X-PUBLISHED-TTL:PT1H
BEGIN:VTIMEZONE
TZID:Europe/Paris
BEGIN:DAYLIGHT
TZOFFSETFROM:+0100
TZOFFSETTO:+0200
TZNAME:CEST
DTSTART:20250330T010000
END:DAYLIGHT
BEGIN:STANDARD
TZOFFSETFROM:+0200
TZOFFSETTO:+0100
TZNAME:CET
DTSTART:20251026T010000
END:STANDARD
END:VTIMEZONE
BEGIN:VEVENT
DTSTART;TZID=Europe/Paris:20251108T120000
DTEND;TZID=Europe/Paris:20251109T153000
DTSTAMP:20260425T143045
CREATED:20241127T105437Z
LAST-MODIFIED:20251020T151724Z
UID:18472-1762603200-1762702200@yanayoga.be
SUMMARY:Théorie Module 1 de la formation certifiante en Yogathérapie
DESCRIPTION:Théorie Module 1 de la formation certifiante en Yogathérapie\nSuite au grand succès de nos formations de yogathérapie\, une troisième promotion a démarré en Octobre 2025 et s’adresse aux professeurs de toute tradition.  Cette formation privilégie les études de cas\, les ateliers et la participation active de tous les stagiaires. \n\n\n\n\n\nL’expérience du Dr N. Chandrasekaran\, spécialiste de grande renommée est l’assurance d’une transmission de haute qualité. \nLa Yogathérapie\nLa yoga thérapie ne se substitue jamais à la médecine officielle. Elle est un complément efficace qui s’adresse aux personnes aptes à se prendre en charge. L’enseignement est individuel et fondé sur une relation de confiance. \nLe professeur de yoga écoute une demande\, vérifie qu’elle correspond au réel besoin de la personne\, procède à une investigation minutieuse avec les outils du yoga afin d’établir un bilan. Il établit et guide une pratique qui sera réévaluée et intensifiée progressivement. \nCette démarche conduit le pratiquant à une autonomie progressive. Elle demande un engagement de pratique régulière. \nDr Natesan Chandrasekaran.\nMédecin depuis vingt ans à Chennai\, c’est par l’étude du Vedanta que le Dr Natesan Chandrasekaran rencontre le yoga. Professeur de yoga diplômé du KYM en 1992\, il y étudie la yogathérapie qu’il enseigne durant huit ans. \nResponsable du département thérapie\, il supervise les cours de yogathérapie les neuf années suivantes. Il étudie continuellement avec T.K.V. Desikachar. \nDepuis plusieurs années\, il parcourt le monde pour former des yoga-thérapeutes. Il a fondé son propre institut : Yoga Vaidya Sala. Il est auteur de livres sur la yogathérapie. \nEnseignement et programme\nLe programme de 500 heures inclut six modules de 9 jours\, un internat de 15 jours en Inde et la présentation d’un mémoire. La formation est validée par un certificat d’aptitude à l’enseignement individuel du yoga aux personnes atteintes par la maladie.   \n\nModule 1 : Viniyoga\, Adhyāya principes et pratique\, observation d’un individu  \n\n\nModule 2 : Anatomie\, physiologie et psychologie selon le yoga\, vyuham  \n\n\nModule 3 : Locomotion et digestion\, pathologie et méthodes.  \n\n\nModule 4 : Respiration\, cardio-vasculaire\, urinaire\, lymphatique\n\n\nModule 5 : Systèmes nerveux\, endocrinien\, reproductif\n\n\nModule 6 : Psychisme\, cancer\, système immunitaire\, nutrition\, dépendance  \n\n\nInternat :   Stage à Chennai 2028.\nMémoire : Réflexion personnelle fondée sur des études de cas.\n\nInformations et contacts\nYana Tomasovicova \nyana@tomaso.be  \n+32 472 488 978  
URL:https://yanayoga.be/agenda-global/formation-certifiante-de-yogatherapie/
CATEGORIES:N. Chandrasekaran,Pranayama,Yogathérapie
ATTACH;FMTTYPE=image/png:https://yanayoga.be/wp-content/uploads/2024/10/rose-e1729850397439.png
ORGANIZER;CN="YanaYoga":MAILTO:yana@tomaso.be
END:VEVENT
END:VCALENDAR